BEGIN:VCALENDAR
VERSION:2.0
CALSCALE:GREGORIAN
BEGIN:VEVENT
URL:https://www.learndesk.us/class/5294046878629888/lesson/6c5099a5ff861b5b5eb6e4d06ed57f8e?ref=outlook-calendar
SUMMARY:Table of Contents Quiz
DTSTART;TZID=America/Los_Angeles:20260425T190000
DTEND;TZID=America/Los_Angeles:20260425T200000
LOCATION:https://www.learndesk.us/class/5294046878629888/lesson/6c5099a5ff861b5b5eb6e4d06ed57f8e?ref=outlook-calendar
DESCRIPTION: https://www.learndesk.us/class/5294046878629888/lesson/6c5099a5ff861b5b5eb6e4d06ed57f8e?ref=outlook-calendar
STATUS:CONFIRMED
SEQUENCE:3
BEGIN:VALARM
TRIGGER:-PT10M
DESCRIPTION:Class Reminder
ACTION:DISPLAY
END:VALARM
END:VEVENT
END:VCALENDAR