BEGIN:VCALENDAR
VERSION:2.0
CALSCALE:GREGORIAN
BEGIN:VEVENT
URL:https://www.learndesk.us/class/5294046878629888/lesson/5cbf413a15bcf6a5c33d9cfd663420bd?ref=outlook-calendar
SUMMARY:Creating Tables
DTSTART;TZID=America/Los_Angeles:20260421T190000
DTEND;TZID=America/Los_Angeles:20260421T200000
LOCATION:https://www.learndesk.us/class/5294046878629888/lesson/5cbf413a15bcf6a5c33d9cfd663420bd?ref=outlook-calendar
DESCRIPTION: You will learn how to 
  Insert eight different type of Tables
  Work with Cells, Rows and Columns
  Work with Table properties
  Add data to Tables
Step-by-Step instructions as well as a sample document has been included with this lesson.

https://www.learndesk.us/class/5294046878629888/lesson/5cbf413a15bcf6a5c33d9cfd663420bd?ref=outlook-calendar
STATUS:CONFIRMED
SEQUENCE:3
BEGIN:VALARM
TRIGGER:-PT10M
DESCRIPTION:Class Reminder
ACTION:DISPLAY
END:VALARM
END:VEVENT
END:VCALENDAR