BEGIN:VCALENDAR
VERSION:2.0
CALSCALE:GREGORIAN
BEGIN:VEVENT
URL:https://www.learndesk.us/class/5294046878629888/lesson/5109cf2ebb42a88c3f8211acf4355d83?ref=outlook-calendar
SUMMARY:Styles Quiz
DTSTART;TZID=America/Los_Angeles:20260425T190000
DTEND;TZID=America/Los_Angeles:20260425T200000
LOCATION:https://www.learndesk.us/class/5294046878629888/lesson/5109cf2ebb42a88c3f8211acf4355d83?ref=outlook-calendar
DESCRIPTION: https://www.learndesk.us/class/5294046878629888/lesson/5109cf2ebb42a88c3f8211acf4355d83?ref=outlook-calendar
STATUS:CONFIRMED
SEQUENCE:3
BEGIN:VALARM
TRIGGER:-PT10M
DESCRIPTION:Class Reminder
ACTION:DISPLAY
END:VALARM
END:VEVENT
END:VCALENDAR