BEGIN:VCALENDAR
VERSION:2.0
CALSCALE:GREGORIAN
BEGIN:VEVENT
URL:https://www.learndesk.us/class/5294046878629888/lesson/48be6993e030cdba8e61f4021eb57857?ref=outlook-calendar
SUMMARY:Table of Authorities
DTSTART;TZID=America/Los_Angeles:20260421T190000
DTEND;TZID=America/Los_Angeles:20260421T200000
LOCATION:https://www.learndesk.us/class/5294046878629888/lesson/48be6993e030cdba8e61f4021eb57857?ref=outlook-calendar
DESCRIPTION: You will learn how to 
  Mark Citations
  Edit Marked citations
  Change Citation Categories
  Create a Table of Authorities
  Update a Table of Authorities
Step-by-Step instructions along with a sample document have been included with this lesson.

https://www.learndesk.us/class/5294046878629888/lesson/48be6993e030cdba8e61f4021eb57857?ref=outlook-calendar
STATUS:CONFIRMED
SEQUENCE:3
BEGIN:VALARM
TRIGGER:-PT10M
DESCRIPTION:Class Reminder
ACTION:DISPLAY
END:VALARM
END:VEVENT
END:VCALENDAR