BEGIN:VCALENDAR
VERSION:2.0
CALSCALE:GREGORIAN
BEGIN:VEVENT
URL:https://www.learndesk.us/class/5294046878629888/lesson/279887cfd04bee45cd3e62be4bb4a2ab?ref=outlook-calendar
SUMMARY:Headers, Footers and Page Numbers
DTSTART;TZID=America/Los_Angeles:20260421T190000
DTEND;TZID=America/Los_Angeles:20260421T200000
LOCATION:https://www.learndesk.us/class/5294046878629888/lesson/279887cfd04bee45cd3e62be4bb4a2ab?ref=outlook-calendar
DESCRIPTION: You will learn how to create headers and footers for different first pages and sections as well as learn how to edit the page number formatting.
Step-by-step instructions, as well as sample documents, have been included with this lesson.

https://www.learndesk.us/class/5294046878629888/lesson/279887cfd04bee45cd3e62be4bb4a2ab?ref=outlook-calendar
STATUS:CONFIRMED
SEQUENCE:3
BEGIN:VALARM
TRIGGER:-PT10M
DESCRIPTION:Class Reminder
ACTION:DISPLAY
END:VALARM
END:VEVENT
END:VCALENDAR