BEGIN:VCALENDAR
VERSION:2.0
CALSCALE:GREGORIAN
BEGIN:VEVENT
URL:https://www.learndesk.us/class/5294046878629888/lesson/2790bf16616061c6188f58fc7b9c6ca9?ref=outlook-calendar
SUMMARY:Create Templates
DTSTART;TZID=America/Los_Angeles:20260421T190000
DTEND;TZID=America/Los_Angeles:20260421T200000
LOCATION:https://www.learndesk.us/class/5294046878629888/lesson/2790bf16616061c6188f58fc7b9c6ca9?ref=outlook-calendar
DESCRIPTION: You will learn how to create a template from a document and access the new template from your personal templates.

https://www.learndesk.us/class/5294046878629888/lesson/2790bf16616061c6188f58fc7b9c6ca9?ref=outlook-calendar
STATUS:CONFIRMED
SEQUENCE:3
BEGIN:VALARM
TRIGGER:-PT10M
DESCRIPTION:Class Reminder
ACTION:DISPLAY
END:VALARM
END:VEVENT
END:VCALENDAR