BEGIN:VCALENDAR
VERSION:2.0
CALSCALE:GREGORIAN
BEGIN:VEVENT
URL:https://www.learndesk.us/class/5294046878629888/lesson/0536a354de018303ab4186e96a37cc5c?ref=outlook-calendar
SUMMARY:Footnotes and Endnotes
DTSTART;TZID=America/Los_Angeles:20260421T190000
DTEND;TZID=America/Los_Angeles:20260421T200000
LOCATION:https://www.learndesk.us/class/5294046878629888/lesson/0536a354de018303ab4186e96a37cc5c?ref=outlook-calendar
DESCRIPTION: In this lesson, you will learn how to  
  Insert Footnotes and Endnotes
  Customize Footnotes and Endnotes
  Navigate Footnotes and Endnotes
  Delete Footnotes and Endnotes
  Create Footnote and Endnote continuation notices 
Step-by-Step instructions along with a sample document have been included with this lesson.

https://www.learndesk.us/class/5294046878629888/lesson/0536a354de018303ab4186e96a37cc5c?ref=outlook-calendar
STATUS:CONFIRMED
SEQUENCE:3
BEGIN:VALARM
TRIGGER:-PT10M
DESCRIPTION:Class Reminder
ACTION:DISPLAY
END:VALARM
END:VEVENT
END:VCALENDAR