BEGIN:VCALENDAR
VERSION:2.0
CALSCALE:GREGORIAN
BEGIN:VEVENT
URL:https://www.learndesk.us/class/5294046878629888/word-2016-essentials-a-how-to-class?ref=outlook-calendar
SUMMARY:Word 2016 Essentials: A How-to Class
DTSTART;TZID=America/Los_Angeles:20260421T190000
DTEND;TZID=America/Los_Angeles:20260421T200000
LOCATION:https://www.learndesk.us/class/5294046878629888/word-2016-essentials-a-how-to-class?ref=outlook-calendar
DESCRIPTION: 
Using my step by step instructions, you will quickly master many of the popular features available in Word. The included sample documents, instructions, and quizzes will ensure you fully understand and can utilize the skills you've learned in this course. By the end of this course, you will be able to create advanced word documents with ease.
What you will learn in this course?

How to navigate the tabs and contextual tabs and locate the commands you need.
How to use key tips.
How to utilize the Quick Access Toolbar so you can work more efficiently.
How to protect your document with a password.
How to Inspect and remove metadata from your document.
How to utilize the export feature, encompassing it many options to create a more dimensional document.
How to work effectively work with styles.
How to add headers and footers to various types of documents.
How to work with footnotes and endnotes.
How to add, edit, update and troubleshoot a table of contents.
How to create a table of...

https://www.learndesk.us/class/5294046878629888/word-2016-essentials-a-how-to-class?ref=outlook-calendar
STATUS:CONFIRMED
SEQUENCE:3
BEGIN:VALARM
TRIGGER:-PT10M
DESCRIPTION:Class Reminder
ACTION:DISPLAY
END:VALARM
END:VEVENT
END:VCALENDAR