BEGIN:VCALENDAR
VERSION:2.0
CALSCALE:GREGORIAN
BEGIN:VEVENT
URL:https://www.learndesk.us/class/5293227592646656/lesson/e8a3a3e7dc0df9c1502695c22d98d2c4?ref=outlook-calendar
SUMMARY:Nutanix Services: ABS, AFS and Networking Concepts
DTSTART;TZID=America/Los_Angeles:20260421T190000
DTEND;TZID=America/Los_Angeles:20260421T200000
LOCATION:https://www.learndesk.us/class/5293227592646656/lesson/e8a3a3e7dc0df9c1502695c22d98d2c4?ref=outlook-calendar
DESCRIPTION: This lesson provides information on Nutanix Services such as Acropolis block services and Acropolis file services and networking concepts.

https://www.learndesk.us/class/5293227592646656/lesson/e8a3a3e7dc0df9c1502695c22d98d2c4?ref=outlook-calendar
STATUS:CONFIRMED
SEQUENCE:3
BEGIN:VALARM
TRIGGER:-PT10M
DESCRIPTION:Class Reminder
ACTION:DISPLAY
END:VALARM
END:VEVENT
END:VCALENDAR