BEGIN:VCALENDAR
VERSION:2.0
CALSCALE:GREGORIAN
BEGIN:VEVENT
URL:https://www.learndesk.us/class/5293227592646656/lesson/77c789664fc02de7ff560460c33a6939?ref=outlook-calendar
SUMMARY:Nutanix Hardware Overview
DTSTART;TZID=America/Los_Angeles:20260421T190000
DTEND;TZID=America/Los_Angeles:20260421T200000
LOCATION:https://www.learndesk.us/class/5293227592646656/lesson/77c789664fc02de7ff560460c33a6939?ref=outlook-calendar
DESCRIPTION: This lesson provides information on Nutanix hardware systems and other vendors.

https://www.learndesk.us/class/5293227592646656/lesson/77c789664fc02de7ff560460c33a6939?ref=outlook-calendar
STATUS:CONFIRMED
SEQUENCE:3
BEGIN:VALARM
TRIGGER:-PT10M
DESCRIPTION:Class Reminder
ACTION:DISPLAY
END:VALARM
END:VEVENT
END:VCALENDAR