BEGIN:VCALENDAR
VERSION:2.0
CALSCALE:GREGORIAN
BEGIN:VEVENT
URL:https://www.learndesk.us/class/5293227592646656/lesson/5df7de2ffa685d65bfe6d4cba7657d97?ref=outlook-calendar
SUMMARY:Nutanix Prism
DTSTART;TZID=America/Los_Angeles:20260421T190000
DTEND;TZID=America/Los_Angeles:20260421T200000
LOCATION:https://www.learndesk.us/class/5293227592646656/lesson/5df7de2ffa685d65bfe6d4cba7657d97?ref=outlook-calendar
DESCRIPTION: This lesson discusses the features of the Nutanix Prism Interface.

https://www.learndesk.us/class/5293227592646656/lesson/5df7de2ffa685d65bfe6d4cba7657d97?ref=outlook-calendar
STATUS:CONFIRMED
SEQUENCE:3
BEGIN:VALARM
TRIGGER:-PT10M
DESCRIPTION:Class Reminder
ACTION:DISPLAY
END:VALARM
END:VEVENT
END:VCALENDAR