BEGIN:VCALENDAR
VERSION:2.0
CALSCALE:GREGORIAN
BEGIN:VEVENT
URL:https://www.learndesk.us/class/5276099632168960/lesson/fc3b4250d97a9988a2c582c6af0025ac?ref=outlook-calendar
SUMMARY:Application Objects and Groups
DTSTART;TZID=America/Los_Angeles:20260422T190000
DTEND;TZID=America/Los_Angeles:20260422T200000
LOCATION:https://www.learndesk.us/class/5276099632168960/lesson/fc3b4250d97a9988a2c582c6af0025ac?ref=outlook-calendar
DESCRIPTION: This section explains in detail how to profile the traffic by creating application objects and classify them into groups.

Create an application object
Create an application group
Classify application objects in a group



https://www.learndesk.us/class/5276099632168960/lesson/fc3b4250d97a9988a2c582c6af0025ac?ref=outlook-calendar
STATUS:CONFIRMED
SEQUENCE:3
BEGIN:VALARM
TRIGGER:-PT10M
DESCRIPTION:Class Reminder
ACTION:DISPLAY
END:VALARM
END:VEVENT
END:VCALENDAR