BEGIN:VCALENDAR
VERSION:2.0
CALSCALE:GREGORIAN
BEGIN:VEVENT
URL:https://www.learndesk.us/class/5276099632168960/lesson/f70e750115af11e8311cb2428e1b99be?ref=outlook-calendar
SUMMARY:Next-Generation Firewall Features
DTSTART;TZID=America/Los_Angeles:20260422T190000
DTEND;TZID=America/Los_Angeles:20260422T200000
LOCATION:https://www.learndesk.us/class/5276099632168960/lesson/f70e750115af11e8311cb2428e1b99be?ref=outlook-calendar
DESCRIPTION: 
A next-generation firewall must be able to inspect traffic in all the upper layers of the OSI model. It needs to provide more than just traditional access-list security enforcement. Palo Alto Networks firewalls can perform all of this and much more. Powerful security options included in the platform are antivirus, anti-spyware, URL filtering, and DoS protection, to name a few. In this section, we will discuss and demonstrate, in detail, how to take advantage of those security features and protect our network to a lower level.

Security profiles overview
Antivirus and Anti-Spyware profiles
URL Filtering and file blocking
Denial of service protection



https://www.learndesk.us/class/5276099632168960/lesson/f70e750115af11e8311cb2428e1b99be?ref=outlook-calendar
STATUS:CONFIRMED
SEQUENCE:3
BEGIN:VALARM
TRIGGER:-PT10M
DESCRIPTION:Class Reminder
ACTION:DISPLAY
END:VALARM
END:VEVENT
END:VCALENDAR