BEGIN:VCALENDAR
VERSION:2.0
CALSCALE:GREGORIAN
BEGIN:VEVENT
URL:https://www.learndesk.us/class/5276099632168960/lesson/f2d5fe5a771bb5558ffb5a7bcfb83344?ref=outlook-calendar
SUMMARY:Routing Contexts: INET-VRTR
DTSTART;TZID=America/Los_Angeles:20260424T190000
DTEND;TZID=America/Los_Angeles:20260424T200000
LOCATION:https://www.learndesk.us/class/5276099632168960/lesson/f2d5fe5a771bb5558ffb5a7bcfb83344?ref=outlook-calendar
DESCRIPTION: This video will review our first virtual router deployment and enable traffic flow on the virtual instance.

Create the virtual router (VRTR) for internet access
Identify the user traffic that will be granted internet access
Apply the route on the virtual router and enable access to the outside world



https://www.learndesk.us/class/5276099632168960/lesson/f2d5fe5a771bb5558ffb5a7bcfb83344?ref=outlook-calendar
STATUS:CONFIRMED
SEQUENCE:3
BEGIN:VALARM
TRIGGER:-PT10M
DESCRIPTION:Class Reminder
ACTION:DISPLAY
END:VALARM
END:VEVENT
END:VCALENDAR