BEGIN:VCALENDAR
VERSION:2.0
CALSCALE:GREGORIAN
BEGIN:VEVENT
URL:https://www.learndesk.us/class/5276099632168960/lesson/f254cf1997a000596cded887d7c71c55?ref=outlook-calendar
SUMMARY:Management and Maintenance Operations
DTSTART;TZID=America/Los_Angeles:20260422T190000
DTEND;TZID=America/Los_Angeles:20260422T200000
LOCATION:https://www.learndesk.us/class/5276099632168960/lesson/f254cf1997a000596cded887d7c71c55?ref=outlook-calendar
DESCRIPTION: 
Common maintenance and upgrade tasks can’t be overlooked. In this section, we demonstrate how to perform common maintenance tasks on the Palo Alto firewalls. We perform PAN-OS software upgrades. We also look at configuration management on the firewall. We perform tasks right from performing configuration change revisions, backup configs, restore configs, to finally reverts. Also, we shall demonstrate an emergency firewall recovery procedure, using the firewall console interface. We will also take a peek into Palo Alto’s centralized management platform: Panorama.

Performing PAN-OS software upgrades
Configuration Revisions, Backups, and Restores
Recovering Palo Alto Firewalls using the Console
Central Palo Alto Firewall management with Panorama



https://www.learndesk.us/class/5276099632168960/lesson/f254cf1997a000596cded887d7c71c55?ref=outlook-calendar
STATUS:CONFIRMED
SEQUENCE:3
BEGIN:VALARM
TRIGGER:-PT10M
DESCRIPTION:Class Reminder
ACTION:DISPLAY
END:VALARM
END:VEVENT
END:VCALENDAR