BEGIN:VCALENDAR
VERSION:2.0
CALSCALE:GREGORIAN
BEGIN:VEVENT
URL:https://www.learndesk.us/class/5276099632168960/lesson/e7256911f3597cd9e569fa56d0d9d22c?ref=outlook-calendar
SUMMARY:Antivirus and Anti-Spyware Profiles
DTSTART;TZID=America/Los_Angeles:20260422T190000
DTEND;TZID=America/Los_Angeles:20260422T200000
LOCATION:https://www.learndesk.us/class/5276099632168960/lesson/e7256911f3597cd9e569fa56d0d9d22c?ref=outlook-calendar
DESCRIPTION: Apply antivirus and anti-spyware profiles to protect the environment from common threats.

Review default settings on each profile
Create custom profiles
Apply both default and custom profiles to each respective policy



https://www.learndesk.us/class/5276099632168960/lesson/e7256911f3597cd9e569fa56d0d9d22c?ref=outlook-calendar
STATUS:CONFIRMED
SEQUENCE:3
BEGIN:VALARM
TRIGGER:-PT10M
DESCRIPTION:Class Reminder
ACTION:DISPLAY
END:VALARM
END:VEVENT
END:VCALENDAR