BEGIN:VCALENDAR
VERSION:2.0
CALSCALE:GREGORIAN
BEGIN:VEVENT
URL:https://www.learndesk.us/class/5276099632168960/lesson/e2721fa98725329eee294f78c1858fa5?ref=outlook-calendar
SUMMARY:Security Policies (Part One)
DTSTART;TZID=America/Los_Angeles:20260422T190000
DTEND;TZID=America/Los_Angeles:20260422T200000
LOCATION:https://www.learndesk.us/class/5276099632168960/lesson/e2721fa98725329eee294f78c1858fa5?ref=outlook-calendar
DESCRIPTION: This gives us a real-life work scenario introduction on how to build network security policies.

Review the security rule requirements
Create required objects
Configure the required security policy



https://www.learndesk.us/class/5276099632168960/lesson/e2721fa98725329eee294f78c1858fa5?ref=outlook-calendar
STATUS:CONFIRMED
SEQUENCE:3
BEGIN:VALARM
TRIGGER:-PT10M
DESCRIPTION:Class Reminder
ACTION:DISPLAY
END:VALARM
END:VEVENT
END:VCALENDAR