BEGIN:VCALENDAR
VERSION:2.0
CALSCALE:GREGORIAN
BEGIN:VEVENT
URL:https://www.learndesk.us/class/5276099632168960/lesson/d37a3354ccdf3739275714e790c53b6f?ref=outlook-calendar
SUMMARY:Active/Standby High Availability (Part One)
DTSTART;TZID=America/Los_Angeles:20260424T190000
DTEND;TZID=America/Los_Angeles:20260424T200000
LOCATION:https://www.learndesk.us/class/5276099632168960/lesson/d37a3354ccdf3739275714e790c53b6f?ref=outlook-calendar
DESCRIPTION: Enable redundancy on the PA environment with Active/ Standby HA configuration.

Enable the HA interfaces
Enable Active/Standby with HA Interface configurations



https://www.learndesk.us/class/5276099632168960/lesson/d37a3354ccdf3739275714e790c53b6f?ref=outlook-calendar
STATUS:CONFIRMED
SEQUENCE:3
BEGIN:VALARM
TRIGGER:-PT10M
DESCRIPTION:Class Reminder
ACTION:DISPLAY
END:VALARM
END:VEVENT
END:VCALENDAR