BEGIN:VCALENDAR
VERSION:2.0
CALSCALE:GREGORIAN
BEGIN:VEVENT
URL:https://www.learndesk.us/class/5276099632168960/lesson/d256c33c64328c8d29171b0ac5beda4d?ref=outlook-calendar
SUMMARY:PAN Application Research Center
DTSTART;TZID=America/Los_Angeles:20260422T190000
DTEND;TZID=America/Los_Angeles:20260422T200000
LOCATION:https://www.learndesk.us/class/5276099632168960/lesson/d256c33c64328c8d29171b0ac5beda4d?ref=outlook-calendar
DESCRIPTION: Here we shall review Applipedia or the Application Research Center, to understand the Palo Alto network’s application objects database. Also, we shall review the application object dependencies to properly configure application objects.

Get familiar with applipedia.paloaltonetworks.com
Review application objects dependencies
Add required dependencies for specific application groups



https://www.learndesk.us/class/5276099632168960/lesson/d256c33c64328c8d29171b0ac5beda4d?ref=outlook-calendar
STATUS:CONFIRMED
SEQUENCE:3
BEGIN:VALARM
TRIGGER:-PT10M
DESCRIPTION:Class Reminder
ACTION:DISPLAY
END:VALARM
END:VEVENT
END:VCALENDAR