BEGIN:VCALENDAR
VERSION:2.0
CALSCALE:GREGORIAN
BEGIN:VEVENT
URL:https://www.learndesk.us/class/5276099632168960/lesson/cb64c5835d07b6716a2f8deed4f013b6?ref=outlook-calendar
SUMMARY:Recovering Palo Alto Firewalls Using the Console
DTSTART;TZID=America/Los_Angeles:20260422T190000
DTEND;TZID=America/Los_Angeles:20260422T200000
LOCATION:https://www.learndesk.us/class/5276099632168960/lesson/cb64c5835d07b6716a2f8deed4f013b6?ref=outlook-calendar
DESCRIPTION: Perform emergency recovery procedures and troubleshooting with the maintenance recovery tool.

Boot the Palo Alto firewall, during boot enter “maint” when prompted
Restore from the factory once in the maintenance mode, if needed
Repair disk partition corruption, if needed, using the recovery tool



https://www.learndesk.us/class/5276099632168960/lesson/cb64c5835d07b6716a2f8deed4f013b6?ref=outlook-calendar
STATUS:CONFIRMED
SEQUENCE:3
BEGIN:VALARM
TRIGGER:-PT10M
DESCRIPTION:Class Reminder
ACTION:DISPLAY
END:VALARM
END:VEVENT
END:VCALENDAR