BEGIN:VCALENDAR
VERSION:2.0
CALSCALE:GREGORIAN
BEGIN:VEVENT
URL:https://www.learndesk.us/class/5276099632168960/lesson/bf63348893011a788ebd8b2b26a26640?ref=outlook-calendar
SUMMARY:Getting Started in PAN-OS 8
DTSTART;TZID=America/Los_Angeles:20260422T190000
DTEND;TZID=America/Los_Angeles:20260422T200000
LOCATION:https://www.learndesk.us/class/5276099632168960/lesson/bf63348893011a788ebd8b2b26a26640?ref=outlook-calendar
DESCRIPTION: 
In this section, we focus on getting the complete audience familiarity with PAN-OS 8 Web User Interface (WUI), right from reviewing each configuration session (dashboard, monitor, policies, network, objects, device), to understand how you can efficiently move around the GUI. This section provides the audience with familiarity with PAN-OS 8 Web Graphical User Interface, which is a key element in understanding the topic, so they can feel more confident in locating their individual configuration settings. This also provides a tour of the command-line interface (CLI), so users can perform test commands as normal troubleshooting/investigation steps.

The course overview
Welcome to Pan-OS 8
Dashboard Introduction
Console-Based administration
Device management



https://www.learndesk.us/class/5276099632168960/lesson/bf63348893011a788ebd8b2b26a26640?ref=outlook-calendar
STATUS:CONFIRMED
SEQUENCE:3
BEGIN:VALARM
TRIGGER:-PT10M
DESCRIPTION:Class Reminder
ACTION:DISPLAY
END:VALARM
END:VEVENT
END:VCALENDAR