BEGIN:VCALENDAR
VERSION:2.0
CALSCALE:GREGORIAN
BEGIN:VEVENT
URL:https://www.learndesk.us/class/5276099632168960/lesson/beec0091e3a9049e79e1a1e244add4f1?ref=outlook-calendar
SUMMARY:Address, Objects and Groups
DTSTART;TZID=America/Los_Angeles:20260422T190000
DTEND;TZID=America/Los_Angeles:20260422T200000
LOCATION:https://www.learndesk.us/class/5276099632168960/lesson/beec0091e3a9049e79e1a1e244add4f1?ref=outlook-calendar
DESCRIPTION: This video explains in detail how to take advantage of creating and applying address objects and groups to structure a clean and precise security policy table.

Create an address object
Create an address group
Consolidate address objects into their respective groups



https://www.learndesk.us/class/5276099632168960/lesson/beec0091e3a9049e79e1a1e244add4f1?ref=outlook-calendar
STATUS:CONFIRMED
SEQUENCE:3
BEGIN:VALARM
TRIGGER:-PT10M
DESCRIPTION:Class Reminder
ACTION:DISPLAY
END:VALARM
END:VEVENT
END:VCALENDAR