BEGIN:VCALENDAR
VERSION:2.0
CALSCALE:GREGORIAN
BEGIN:VEVENT
URL:https://www.learndesk.us/class/5276099632168960/lesson/bc29f0a11ed5060d026c66e58f8228d2?ref=outlook-calendar
SUMMARY:Virtual Systems
DTSTART;TZID=America/Los_Angeles:20260422T190000
DTEND;TZID=America/Los_Angeles:20260422T200000
LOCATION:https://www.learndesk.us/class/5276099632168960/lesson/bc29f0a11ed5060d026c66e58f8228d2?ref=outlook-calendar
DESCRIPTION: Leverage hardware resources, limit complexity, and maintenance by enabling virtual systems.

Enable virtual systems (vsys) under device
Create virtual systems
Allocate dedicated interfaces and virtual routers to the vsys



https://www.learndesk.us/class/5276099632168960/lesson/bc29f0a11ed5060d026c66e58f8228d2?ref=outlook-calendar
STATUS:CONFIRMED
SEQUENCE:3
BEGIN:VALARM
TRIGGER:-PT10M
DESCRIPTION:Class Reminder
ACTION:DISPLAY
END:VALARM
END:VEVENT
END:VCALENDAR