BEGIN:VCALENDAR
VERSION:2.0
CALSCALE:GREGORIAN
BEGIN:VEVENT
URL:https://www.learndesk.us/class/5276099632168960/lesson/b7ca2c28f421240f3d4101830175dbea?ref=outlook-calendar
SUMMARY:URL Filtering and File Blocking
DTSTART;TZID=America/Los_Angeles:20260422T190000
DTEND;TZID=America/Los_Angeles:20260422T200000
LOCATION:https://www.learndesk.us/class/5276099632168960/lesson/b7ca2c28f421240f3d4101830175dbea?ref=outlook-calendar
DESCRIPTION: Configure URL filtering and file blocking profiles to limit user access to restricted content on the web.

Review default settings on each profile
Create custom profiles
Apply both default and custom profiles to each respective policy



https://www.learndesk.us/class/5276099632168960/lesson/b7ca2c28f421240f3d4101830175dbea?ref=outlook-calendar
STATUS:CONFIRMED
SEQUENCE:3
BEGIN:VALARM
TRIGGER:-PT10M
DESCRIPTION:Class Reminder
ACTION:DISPLAY
END:VALARM
END:VEVENT
END:VCALENDAR