BEGIN:VCALENDAR
VERSION:2.0
CALSCALE:GREGORIAN
BEGIN:VEVENT
URL:https://www.learndesk.us/class/5276099632168960/lesson/b305884b2911eda25494f651b4d3ef19?ref=outlook-calendar
SUMMARY:Welcome to Pan-OS 8
DTSTART;TZID=America/Los_Angeles:20260422T190000
DTEND;TZID=America/Los_Angeles:20260422T200000
LOCATION:https://www.learndesk.us/class/5276099632168960/lesson/b305884b2911eda25494f651b4d3ef19?ref=outlook-calendar
DESCRIPTION: This video will introduce you to the Palo Alto Networks Operating System version 8 (PAN-OS 8) web graphical user interface. It will also provide the end-user, web management interface familiarity, with navigation through tools and settings.

Review dashboard tab and object tab
Analyze the policy tab, network tab, and device tab
Explore ACC tab and monitor tab



https://www.learndesk.us/class/5276099632168960/lesson/b305884b2911eda25494f651b4d3ef19?ref=outlook-calendar
STATUS:CONFIRMED
SEQUENCE:3
BEGIN:VALARM
TRIGGER:-PT10M
DESCRIPTION:Class Reminder
ACTION:DISPLAY
END:VALARM
END:VEVENT
END:VCALENDAR