BEGIN:VCALENDAR
VERSION:2.0
CALSCALE:GREGORIAN
BEGIN:VEVENT
URL:https://www.learndesk.us/class/5276099632168960/lesson/aec796e63e33de68cbd719646b19d7fb?ref=outlook-calendar
SUMMARY:Service Objects and Groups
DTSTART;TZID=America/Los_Angeles:20260422T190000
DTEND;TZID=America/Los_Angeles:20260422T200000
LOCATION:https://www.learndesk.us/class/5276099632168960/lesson/aec796e63e33de68cbd719646b19d7fb?ref=outlook-calendar
DESCRIPTION: This has a detailed explanation on how to take advantage of applying service objects and groups on the firewall security policy table, and how it allows concise policy structure format and standardization.

Create a service object
Create a service object group
Nest service object group to shrink the policy table



https://www.learndesk.us/class/5276099632168960/lesson/aec796e63e33de68cbd719646b19d7fb?ref=outlook-calendar
STATUS:CONFIRMED
SEQUENCE:3
BEGIN:VALARM
TRIGGER:-PT10M
DESCRIPTION:Class Reminder
ACTION:DISPLAY
END:VALARM
END:VEVENT
END:VCALENDAR