BEGIN:VCALENDAR
VERSION:2.0
CALSCALE:GREGORIAN
BEGIN:VEVENT
URL:https://www.learndesk.us/class/5276099632168960/lesson/a1daaaef61570e05af420eb37d2219d0?ref=outlook-calendar
SUMMARY:User Objects and Groups
DTSTART;TZID=America/Los_Angeles:20260422T190000
DTEND;TZID=America/Los_Angeles:20260422T200000
LOCATION:https://www.learndesk.us/class/5276099632168960/lesson/a1daaaef61570e05af420eb37d2219d0?ref=outlook-calendar
DESCRIPTION: This explains how to create local user accounts on the firewall, to enforce security policies, based on the local user database. Also, how to create local user groups to organize and enforce user group-based policies.

Create a local user account
Create a local user group
Add the local user to the local group and enforce security



https://www.learndesk.us/class/5276099632168960/lesson/a1daaaef61570e05af420eb37d2219d0?ref=outlook-calendar
STATUS:CONFIRMED
SEQUENCE:3
BEGIN:VALARM
TRIGGER:-PT10M
DESCRIPTION:Class Reminder
ACTION:DISPLAY
END:VALARM
END:VEVENT
END:VCALENDAR