BEGIN:VCALENDAR
VERSION:2.0
CALSCALE:GREGORIAN
BEGIN:VEVENT
URL:https://www.learndesk.us/class/5276099632168960/lesson/9060a5c4ed79df1ba34a0045bc9e578a?ref=outlook-calendar
SUMMARY:Active/Active HA Clustering
DTSTART;TZID=America/Los_Angeles:20260422T190000
DTEND;TZID=America/Los_Angeles:20260422T200000
LOCATION:https://www.learndesk.us/class/5276099632168960/lesson/9060a5c4ed79df1ba34a0045bc9e578a?ref=outlook-calendar
DESCRIPTION: Here, we shall enable redundancy and load balancing, and maximize capacity on the PA environment with Active/Active HA configuration.

Configure unique zone IPs
Configure virtual IPs and enable Active/Active HA
Confirm HA is active and execute failover test



https://www.learndesk.us/class/5276099632168960/lesson/9060a5c4ed79df1ba34a0045bc9e578a?ref=outlook-calendar
STATUS:CONFIRMED
SEQUENCE:3
BEGIN:VALARM
TRIGGER:-PT10M
DESCRIPTION:Class Reminder
ACTION:DISPLAY
END:VALARM
END:VEVENT
END:VCALENDAR