BEGIN:VCALENDAR
VERSION:2.0
CALSCALE:GREGORIAN
BEGIN:VEVENT
URL:https://www.learndesk.us/class/5276099632168960/lesson/8a561a6df34be05e79dadf7fac55f82a?ref=outlook-calendar
SUMMARY:Source NAT (S-NAT)
DTSTART;TZID=America/Los_Angeles:20260422T190000
DTEND;TZID=America/Los_Angeles:20260422T200000
LOCATION:https://www.learndesk.us/class/5276099632168960/lesson/8a561a6df34be05e79dadf7fac55f82a?ref=outlook-calendar
DESCRIPTION: We shall configure a source address translation that will allow internal users to reach the outside zone (Internet).

Create the source NAT policy
Create a security policy to allow outbound access
Enable the policy and test reachability to the internet, from internal user



https://www.learndesk.us/class/5276099632168960/lesson/8a561a6df34be05e79dadf7fac55f82a?ref=outlook-calendar
STATUS:CONFIRMED
SEQUENCE:3
BEGIN:VALARM
TRIGGER:-PT10M
DESCRIPTION:Class Reminder
ACTION:DISPLAY
END:VALARM
END:VEVENT
END:VCALENDAR