BEGIN:VCALENDAR
VERSION:2.0
CALSCALE:GREGORIAN
BEGIN:VEVENT
URL:https://www.learndesk.us/class/5276099632168960/lesson/8543d3c68662ffc1ae4a2824d3da58ee?ref=outlook-calendar
SUMMARY:Destination NAT (D-NAT)
DTSTART;TZID=America/Los_Angeles:20260422T190000
DTEND;TZID=America/Los_Angeles:20260422T200000
LOCATION:https://www.learndesk.us/class/5276099632168960/lesson/8543d3c68662ffc1ae4a2824d3da58ee?ref=outlook-calendar
DESCRIPTION: Here, we shall configure a destination network address translation, that will allow external users to reach a web server on the DMZ.

Create the destination NAT policy
Create a security policy to allow inbound access
Enable the NAT policy and test reachability from the user’s perspective



https://www.learndesk.us/class/5276099632168960/lesson/8543d3c68662ffc1ae4a2824d3da58ee?ref=outlook-calendar
STATUS:CONFIRMED
SEQUENCE:3
BEGIN:VALARM
TRIGGER:-PT10M
DESCRIPTION:Class Reminder
ACTION:DISPLAY
END:VALARM
END:VEVENT
END:VCALENDAR