BEGIN:VCALENDAR
VERSION:2.0
CALSCALE:GREGORIAN
BEGIN:VEVENT
URL:https://www.learndesk.us/class/5276099632168960/lesson/7f0de730df728c0dbf85008048aca0a3?ref=outlook-calendar
SUMMARY:Active/Standby High Availability (Part Two)
DTSTART;TZID=America/Los_Angeles:20260422T190000
DTEND;TZID=America/Los_Angeles:20260422T200000
LOCATION:https://www.learndesk.us/class/5276099632168960/lesson/7f0de730df728c0dbf85008048aca0a3?ref=outlook-calendar
DESCRIPTION: In this video, we will execute a failover test.

Configure HA interfaces
Configure zones: Both, outside and inside
Confirm HA is active and execute failover test



https://www.learndesk.us/class/5276099632168960/lesson/7f0de730df728c0dbf85008048aca0a3?ref=outlook-calendar
STATUS:CONFIRMED
SEQUENCE:3
BEGIN:VALARM
TRIGGER:-PT10M
DESCRIPTION:Class Reminder
ACTION:DISPLAY
END:VALARM
END:VEVENT
END:VCALENDAR