BEGIN:VCALENDAR
VERSION:2.0
CALSCALE:GREGORIAN
BEGIN:VEVENT
URL:https://www.learndesk.us/class/5276099632168960/lesson/709f99a81480ce1284657ece48a68584?ref=outlook-calendar
SUMMARY:Interface Type
DTSTART;TZID=America/Los_Angeles:20260422T190000
DTEND;TZID=America/Los_Angeles:20260422T200000
LOCATION:https://www.learndesk.us/class/5276099632168960/lesson/709f99a81480ce1284657ece48a68584?ref=outlook-calendar
DESCRIPTION: This video explains various options to provide end to end connectivity between your Palo Alto firewall and your core network infrastructure.

Configure Layer 2 interfaces
Configure Layer 3 interfaces
Configure Tunnel, Loopback, and HA interfaces



https://www.learndesk.us/class/5276099632168960/lesson/709f99a81480ce1284657ece48a68584?ref=outlook-calendar
STATUS:CONFIRMED
SEQUENCE:3
BEGIN:VALARM
TRIGGER:-PT10M
DESCRIPTION:Class Reminder
ACTION:DISPLAY
END:VALARM
END:VEVENT
END:VCALENDAR