BEGIN:VCALENDAR
VERSION:2.0
CALSCALE:GREGORIAN
BEGIN:VEVENT
URL:https://www.learndesk.us/class/5276099632168960/lesson/6fdc80f2d0d51ba3623ae0512a5a4e53?ref=outlook-calendar
SUMMARY:Configuration Revisions, Backups, and Restores
DTSTART;TZID=America/Los_Angeles:20260423T190000
DTEND;TZID=America/Los_Angeles:20260423T200000
LOCATION:https://www.learndesk.us/class/5276099632168960/lesson/6fdc80f2d0d51ba3623ae0512a5a4e53?ref=outlook-calendar
DESCRIPTION: This will give the firewall configuration management overview and also configuration backup, restore, reverts, and audits.

Perform running and candidate configuration audits
Perform configuration backup and snapshot
Perform configuration reverts and restores



https://www.learndesk.us/class/5276099632168960/lesson/6fdc80f2d0d51ba3623ae0512a5a4e53?ref=outlook-calendar
STATUS:CONFIRMED
SEQUENCE:3
BEGIN:VALARM
TRIGGER:-PT10M
DESCRIPTION:Class Reminder
ACTION:DISPLAY
END:VALARM
END:VEVENT
END:VCALENDAR