BEGIN:VCALENDAR
VERSION:2.0
CALSCALE:GREGORIAN
BEGIN:VEVENT
URL:https://www.learndesk.us/class/5276099632168960/lesson/672e88b1d468a8b497a610a7d507822c?ref=outlook-calendar
SUMMARY:IPSec Site to Site VPN (Tunnel Mode)
DTSTART;TZID=America/Los_Angeles:20260422T190000
DTEND;TZID=America/Los_Angeles:20260422T200000
LOCATION:https://www.learndesk.us/class/5276099632168960/lesson/672e88b1d468a8b497a610a7d507822c?ref=outlook-calendar
DESCRIPTION: Enable a site-to-site IPSec tunnel in tunnel (proxy) mode and send traffic between the distant networks.

Configure all prerequisites for our IPSec tunnel
Configure the IPSec tunnel along with security policies
Enable the tunnel and test traffic flow and reachability



https://www.learndesk.us/class/5276099632168960/lesson/672e88b1d468a8b497a610a7d507822c?ref=outlook-calendar
STATUS:CONFIRMED
SEQUENCE:3
BEGIN:VALARM
TRIGGER:-PT10M
DESCRIPTION:Class Reminder
ACTION:DISPLAY
END:VALARM
END:VEVENT
END:VCALENDAR