BEGIN:VCALENDAR
VERSION:2.0
CALSCALE:GREGORIAN
BEGIN:VEVENT
URL:https://www.learndesk.us/class/5276099632168960/lesson/626cb2dbbab781972afccbad87ccf9db?ref=outlook-calendar
SUMMARY:PAN-OS VPN Tunneling Options
DTSTART;TZID=America/Los_Angeles:20260422T190000
DTEND;TZID=America/Los_Angeles:20260422T200000
LOCATION:https://www.learndesk.us/class/5276099632168960/lesson/626cb2dbbab781972afccbad87ccf9db?ref=outlook-calendar
DESCRIPTION: A general overview of IPSec tunneling options and GlobalProtect.

Review the IPSec site to site tunnel modes
Review the GlobalProtect gateway and portal
Understand the cases where we can apply either of the solutions



https://www.learndesk.us/class/5276099632168960/lesson/626cb2dbbab781972afccbad87ccf9db?ref=outlook-calendar
STATUS:CONFIRMED
SEQUENCE:3
BEGIN:VALARM
TRIGGER:-PT10M
DESCRIPTION:Class Reminder
ACTION:DISPLAY
END:VALARM
END:VEVENT
END:VCALENDAR