BEGIN:VCALENDAR
VERSION:2.0
CALSCALE:GREGORIAN
BEGIN:VEVENT
URL:https://www.learndesk.us/class/5276099632168960/lesson/60a83d69a23aa73057bdd257453600a6?ref=outlook-calendar
SUMMARY:V-Wires
DTSTART;TZID=America/Los_Angeles:20260422T190000
DTEND;TZID=America/Los_Angeles:20260422T200000
LOCATION:https://www.learndesk.us/class/5276099632168960/lesson/60a83d69a23aa73057bdd257453600a6?ref=outlook-calendar
DESCRIPTION: This video explains how to allow the Palo Alto firewall to enforce traffic transparently, by bridging ingress and egress interfaces, and traffic in zones, without influencing the routing path decisions.

Configure the physical interfaces in V-wire mode
Create a V-wire and bridging the two interfaces that were previously configured
Allocate each V-wire member interface in a security zone and creating a security policy



https://www.learndesk.us/class/5276099632168960/lesson/60a83d69a23aa73057bdd257453600a6?ref=outlook-calendar
STATUS:CONFIRMED
SEQUENCE:3
BEGIN:VALARM
TRIGGER:-PT10M
DESCRIPTION:Class Reminder
ACTION:DISPLAY
END:VALARM
END:VEVENT
END:VCALENDAR