BEGIN:VCALENDAR
VERSION:2.0
CALSCALE:GREGORIAN
BEGIN:VEVENT
URL:https://www.learndesk.us/class/5276099632168960/lesson/5c6ccbd7c178a07b12915b82573c2d0f?ref=outlook-calendar
SUMMARY:Firewall Objects: Addresses, Services, and Group
DTSTART;TZID=America/Los_Angeles:20260422T190000
DTEND;TZID=America/Los_Angeles:20260422T200000
LOCATION:https://www.learndesk.us/class/5276099632168960/lesson/5c6ccbd7c178a07b12915b82573c2d0f?ref=outlook-calendar
DESCRIPTION: 
In this section, we go into detail to understand how firewall objects are a key element in every firewall policy configuration. It allows a network security engineer to understand the hierarchy of addresses, services, and user objects. This significantly contributes to a cleaner, efficient, and congruent security policy table. We focus on emphasizing to the audience that an organized policy setting allows a simpler/easier way of troubleshooting if an issue should arise. It also provides a clear understanding of what the firewall is enforcing from a traffic flow standpoint.

Address objects and groups
Service objects and groups
Application objects and groups
PAN application research center
User objects and groups
LDAP authentication and remote users and groups



https://www.learndesk.us/class/5276099632168960/lesson/5c6ccbd7c178a07b12915b82573c2d0f?ref=outlook-calendar
STATUS:CONFIRMED
SEQUENCE:3
BEGIN:VALARM
TRIGGER:-PT10M
DESCRIPTION:Class Reminder
ACTION:DISPLAY
END:VALARM
END:VEVENT
END:VCALENDAR