BEGIN:VCALENDAR
VERSION:2.0
CALSCALE:GREGORIAN
BEGIN:VEVENT
URL:https://www.learndesk.us/class/5276099632168960/lesson/5a06d5682cd56d6e6702366605f53efa?ref=outlook-calendar
SUMMARY:Central Palo Alto Firewall Management With Panorama
DTSTART;TZID=America/Los_Angeles:20260424T190000
DTEND;TZID=America/Los_Angeles:20260424T200000
LOCATION:https://www.learndesk.us/class/5276099632168960/lesson/5a06d5682cd56d6e6702366605f53efa?ref=outlook-calendar
DESCRIPTION: We shall administer multiple geographically dispersed Palo Alto firewalls using Panorama.

Add devices to Panorama
Configure device groups in Panorama and add respective devices
Configure shared policies for all device groups or configure policies per device group



https://www.learndesk.us/class/5276099632168960/lesson/5a06d5682cd56d6e6702366605f53efa?ref=outlook-calendar
STATUS:CONFIRMED
SEQUENCE:3
BEGIN:VALARM
TRIGGER:-PT10M
DESCRIPTION:Class Reminder
ACTION:DISPLAY
END:VALARM
END:VEVENT
END:VCALENDAR