BEGIN:VCALENDAR
VERSION:2.0
CALSCALE:GREGORIAN
BEGIN:VEVENT
URL:https://www.learndesk.us/class/5276099632168960/lesson/59a59d5e73c5005f177df44f3ee1e9d4?ref=outlook-calendar
SUMMARY:Console-Based Administration
DTSTART;TZID=America/Los_Angeles:20260422T190000
DTEND;TZID=America/Los_Angeles:20260422T200000
LOCATION:https://www.learndesk.us/class/5276099632168960/lesson/59a59d5e73c5005f177df44f3ee1e9d4?ref=outlook-calendar
DESCRIPTION: Guided tour to the available functions inside the console interface. Retrieving information, performing troubleshooting steps, and maintenance tasks, from the console interface.

Show commands to query information, not shown on the GUI
Request to execute various administration commands
Use the test to perform fast troubleshoot steps



https://www.learndesk.us/class/5276099632168960/lesson/59a59d5e73c5005f177df44f3ee1e9d4?ref=outlook-calendar
STATUS:CONFIRMED
SEQUENCE:3
BEGIN:VALARM
TRIGGER:-PT10M
DESCRIPTION:Class Reminder
ACTION:DISPLAY
END:VALARM
END:VEVENT
END:VCALENDAR