BEGIN:VCALENDAR
VERSION:2.0
CALSCALE:GREGORIAN
BEGIN:VEVENT
URL:https://www.learndesk.us/class/5276099632168960/lesson/4cb24f55cb7d4ab44cfdfe8c74ec3f41?ref=outlook-calendar
SUMMARY:Virtual IP Load Balancing With  ARP Sharing and Floating IPs
DTSTART;TZID=America/Los_Angeles:20260422T190000
DTEND;TZID=America/Los_Angeles:20260422T200000
LOCATION:https://www.learndesk.us/class/5276099632168960/lesson/4cb24f55cb7d4ab44cfdfe8c74ec3f41?ref=outlook-calendar
DESCRIPTION: Enable Active/Active traffic load balancing with virtual IPs and failover traffic with floating IPs.

Configure ARP load sharing with virtual IPs
Configure floating IPs
Test virtual IP reachability and failover services



https://www.learndesk.us/class/5276099632168960/lesson/4cb24f55cb7d4ab44cfdfe8c74ec3f41?ref=outlook-calendar
STATUS:CONFIRMED
SEQUENCE:3
BEGIN:VALARM
TRIGGER:-PT10M
DESCRIPTION:Class Reminder
ACTION:DISPLAY
END:VALARM
END:VEVENT
END:VCALENDAR