BEGIN:VCALENDAR
VERSION:2.0
CALSCALE:GREGORIAN
BEGIN:VEVENT
URL:https://www.learndesk.us/class/5276099632168960/lesson/48df00bbcaf9cedd4c8ae19c6bafab78?ref=outlook-calendar
SUMMARY:Introduction to HA and Firewall Clustering
DTSTART;TZID=America/Los_Angeles:20260422T190000
DTEND;TZID=America/Los_Angeles:20260422T200000
LOCATION:https://www.learndesk.us/class/5276099632168960/lesson/48df00bbcaf9cedd4c8ae19c6bafab78?ref=outlook-calendar
DESCRIPTION: A general overview of HA environments in Palo Alto firewalls.

Active/Standby overview
Active/Active overview
Virtual IP overview



https://www.learndesk.us/class/5276099632168960/lesson/48df00bbcaf9cedd4c8ae19c6bafab78?ref=outlook-calendar
STATUS:CONFIRMED
SEQUENCE:3
BEGIN:VALARM
TRIGGER:-PT10M
DESCRIPTION:Class Reminder
ACTION:DISPLAY
END:VALARM
END:VEVENT
END:VCALENDAR