BEGIN:VCALENDAR
VERSION:2.0
CALSCALE:GREGORIAN
BEGIN:VEVENT
URL:https://www.learndesk.us/class/5276099632168960/lesson/4854a91282ebb3db5a3c1fde66abba43?ref=outlook-calendar
SUMMARY:Dashboard Introduction
DTSTART;TZID=America/Los_Angeles:20260422T190000
DTEND;TZID=America/Los_Angeles:20260422T200000
LOCATION:https://www.learndesk.us/class/5276099632168960/lesson/4854a91282ebb3db5a3c1fde66abba43?ref=outlook-calendar
DESCRIPTION: This video reviews the PAN-OS 8.1.0 home dashboard. It guides on how to customize the dashboard in favor of the firewall administrator’s benefit and interpreting system logs and adding widgets to the dashboard.

Customize dashboard object viewing experience
Monitor admin login access and configuration history
Add dashboard widgets and perform system event log analysis



https://www.learndesk.us/class/5276099632168960/lesson/4854a91282ebb3db5a3c1fde66abba43?ref=outlook-calendar
STATUS:CONFIRMED
SEQUENCE:3
BEGIN:VALARM
TRIGGER:-PT10M
DESCRIPTION:Class Reminder
ACTION:DISPLAY
END:VALARM
END:VEVENT
END:VCALENDAR