BEGIN:VCALENDAR
VERSION:2.0
CALSCALE:GREGORIAN
BEGIN:VEVENT
URL:https://www.learndesk.us/class/5276099632168960/lesson/41ff26d1edc60b1ca708003f9ece7446?ref=outlook-calendar
SUMMARY:LDAP Authentication and Remote Users and Groups
DTSTART;TZID=America/Los_Angeles:20260422T190000
DTEND;TZID=America/Los_Angeles:20260422T200000
LOCATION:https://www.learndesk.us/class/5276099632168960/lesson/41ff26d1edc60b1ca708003f9ece7446?ref=outlook-calendar
DESCRIPTION: It tells us how to integrate your Palo Alto firewall with LDAP, to enforce directory service-based user account security policies.

Perform LDAP integration with a service account
Perform LDAP user group mapping
Create security groups with LDAP security groups



https://www.learndesk.us/class/5276099632168960/lesson/41ff26d1edc60b1ca708003f9ece7446?ref=outlook-calendar
STATUS:CONFIRMED
SEQUENCE:3
BEGIN:VALARM
TRIGGER:-PT10M
DESCRIPTION:Class Reminder
ACTION:DISPLAY
END:VALARM
END:VEVENT
END:VCALENDAR