BEGIN:VCALENDAR
VERSION:2.0
CALSCALE:GREGORIAN
BEGIN:VEVENT
URL:https://www.learndesk.us/class/5276099632168960/lesson/3c0204bb4b4ab3f262e8c4ea97b0b028?ref=outlook-calendar
SUMMARY:IPSec Site to Site VPN Interface Mode
DTSTART;TZID=America/Los_Angeles:20260422T190000
DTEND;TZID=America/Los_Angeles:20260422T200000
LOCATION:https://www.learndesk.us/class/5276099632168960/lesson/3c0204bb4b4ab3f262e8c4ea97b0b028?ref=outlook-calendar
DESCRIPTION: Convert the IPSec tunnel into an interface mode, by configuring L3 tunnel interfaces.

Configure the tunnel interfaces in L3 and allocate IPs
Enable dynamic routing (OSPF) and advertise distant networks
Confirm traffic reachability to the advertised networks



https://www.learndesk.us/class/5276099632168960/lesson/3c0204bb4b4ab3f262e8c4ea97b0b028?ref=outlook-calendar
STATUS:CONFIRMED
SEQUENCE:3
BEGIN:VALARM
TRIGGER:-PT10M
DESCRIPTION:Class Reminder
ACTION:DISPLAY
END:VALARM
END:VEVENT
END:VCALENDAR