BEGIN:VCALENDAR
VERSION:2.0
CALSCALE:GREGORIAN
BEGIN:VEVENT
URL:https://www.learndesk.us/class/5276099632168960/lesson/3ae25f0f4c07fc00a4549cf920812779?ref=outlook-calendar
SUMMARY:Firewall Security Zones, Interface Types, and V-Wires
DTSTART;TZID=America/Los_Angeles:20260422T190000
DTEND;TZID=America/Los_Angeles:20260422T200000
LOCATION:https://www.learndesk.us/class/5276099632168960/lesson/3ae25f0f4c07fc00a4549cf920812779?ref=outlook-calendar
DESCRIPTION: 
The heart and soul of every firewall are the security zones. In this section, we will discuss how Palo Alto Networks firewalls segment traffic into zones. This is how traffic and interfaces are assigned to classified identities in the firewall, by selecting the right interface type and providing its respective address on the network. We will take advantage of having V-Wires, removing physical layer 1 constraints and points of failure, while providing a simplified network security topology. Understanding this section is a key topic in Mastering Palo Alto Networks.

Firewall security zones
Interface type
V-Wires



https://www.learndesk.us/class/5276099632168960/lesson/3ae25f0f4c07fc00a4549cf920812779?ref=outlook-calendar
STATUS:CONFIRMED
SEQUENCE:3
BEGIN:VALARM
TRIGGER:-PT10M
DESCRIPTION:Class Reminder
ACTION:DISPLAY
END:VALARM
END:VEVENT
END:VCALENDAR