BEGIN:VCALENDAR
VERSION:2.0
CALSCALE:GREGORIAN
BEGIN:VEVENT
URL:https://www.learndesk.us/class/5276099632168960/lesson/2cfeda6bf085bcc78185fb0caff579d3?ref=outlook-calendar
SUMMARY:High Availability Firewall Clustering and Virtual Systems
DTSTART;TZID=America/Los_Angeles:20260422T190000
DTEND;TZID=America/Los_Angeles:20260422T200000
LOCATION:https://www.learndesk.us/class/5276099632168960/lesson/2cfeda6bf085bcc78185fb0caff579d3?ref=outlook-calendar
DESCRIPTION: 
With any critical infrastructure device, redundancy is not an option, it is a must! You will never know when a device can fail without any notification, so building your infrastructure in High Availability, provides peace of mind for all your critical production systems. In this section, we leverage all options to bring redundancy to the firewall level. We explore Palo Alto firewalls running in Active/Passive and Active/Active modes. We also take advantage of load balancing with Active/Active virtual IPs. We finalize the section discussing virtual systems or virtually segmenting your firewall in virtual instances.

Introduction to HA and Firewall Clustering
Active/Standby High Availability (Part One)
Active/Standby High Availability (Part Two)
Active/Active HA Clustering
Virtual IP Load Balancing with  ARP Sharing and Floating IPs
Virtual Systems



https://www.learndesk.us/class/5276099632168960/lesson/2cfeda6bf085bcc78185fb0caff579d3?ref=outlook-calendar
STATUS:CONFIRMED
SEQUENCE:3
BEGIN:VALARM
TRIGGER:-PT10M
DESCRIPTION:Class Reminder
ACTION:DISPLAY
END:VALARM
END:VEVENT
END:VCALENDAR