BEGIN:VCALENDAR
VERSION:2.0
CALSCALE:GREGORIAN
BEGIN:VEVENT
URL:https://www.learndesk.us/class/5276099632168960/lesson/27e941cb1b7fef8b0df4a4f579db9da6?ref=outlook-calendar
SUMMARY:Denial of Service Protection
DTSTART;TZID=America/Los_Angeles:20260422T190000
DTEND;TZID=America/Los_Angeles:20260422T200000
LOCATION:https://www.learndesk.us/class/5276099632168960/lesson/27e941cb1b7fef8b0df4a4f579db9da6?ref=outlook-calendar
DESCRIPTION: Review and configure DoS zone protection profiles and understand the use cases.

Configure DoS protection profiles
Configure DoS zone protection policies
Review the zone protection profile configuration



https://www.learndesk.us/class/5276099632168960/lesson/27e941cb1b7fef8b0df4a4f579db9da6?ref=outlook-calendar
STATUS:CONFIRMED
SEQUENCE:3
BEGIN:VALARM
TRIGGER:-PT10M
DESCRIPTION:Class Reminder
ACTION:DISPLAY
END:VALARM
END:VEVENT
END:VCALENDAR