BEGIN:VCALENDAR
VERSION:2.0
CALSCALE:GREGORIAN
BEGIN:VEVENT
URL:https://www.learndesk.us/class/5276099632168960/lesson/249f4f1a37239f4b9fd221699fa32997?ref=outlook-calendar
SUMMARY:Device Management
DTSTART;TZID=America/Los_Angeles:20260422T190000
DTEND;TZID=America/Los_Angeles:20260422T200000
LOCATION:https://www.learndesk.us/class/5276099632168960/lesson/249f4f1a37239f4b9fd221699fa32997?ref=outlook-calendar
DESCRIPTION: An overview of how we can effectively delegate and control access to a management interface. Also, shows how to provide management attributes to an interface and delegate custom rights to local administrators.

Review the physical interface location
Configure a management profile
Configure an administrator role for management purposes



https://www.learndesk.us/class/5276099632168960/lesson/249f4f1a37239f4b9fd221699fa32997?ref=outlook-calendar
STATUS:CONFIRMED
SEQUENCE:3
BEGIN:VALARM
TRIGGER:-PT10M
DESCRIPTION:Class Reminder
ACTION:DISPLAY
END:VALARM
END:VEVENT
END:VCALENDAR