BEGIN:VCALENDAR
VERSION:2.0
CALSCALE:GREGORIAN
BEGIN:VEVENT
URL:https://www.learndesk.us/class/5276099632168960/lesson/15a4cf959823063bc151fc89b2dfd336?ref=outlook-calendar
SUMMARY:Security Profiles Overview
DTSTART;TZID=America/Los_Angeles:20260422T190000
DTEND;TZID=America/Los_Angeles:20260422T200000
LOCATION:https://www.learndesk.us/class/5276099632168960/lesson/15a4cf959823063bc151fc89b2dfd336?ref=outlook-calendar
DESCRIPTION: A general overview of all the next-generation features available on the Palo Alto firewall.

Discuss each security profile
Demonstrate use case scenarios
Explore options available inside each security profile



https://www.learndesk.us/class/5276099632168960/lesson/15a4cf959823063bc151fc89b2dfd336?ref=outlook-calendar
STATUS:CONFIRMED
SEQUENCE:3
BEGIN:VALARM
TRIGGER:-PT10M
DESCRIPTION:Class Reminder
ACTION:DISPLAY
END:VALARM
END:VEVENT
END:VCALENDAR