BEGIN:VCALENDAR
VERSION:2.0
CALSCALE:GREGORIAN
BEGIN:VEVENT
URL:https://www.learndesk.us/class/5276099632168960/lesson/0acd7b9b9000f0cc3d6e46c7fe1b6710?ref=outlook-calendar
SUMMARY:Security Policies, Routing Contexts, and NAT
DTSTART;TZID=America/Los_Angeles:20260422T190000
DTEND;TZID=America/Los_Angeles:20260422T200000
LOCATION:https://www.learndesk.us/class/5276099632168960/lesson/0acd7b9b9000f0cc3d6e46c7fe1b6710?ref=outlook-calendar
DESCRIPTION: 
Any network security device relies on proper network communication for its successful operation. This includes proper management of routing configurations and network address translations. A simplified configuration approach saves time and resources if we adopt the included Palo Alto routing features, as well as, network address translation options. In this section, we go into detail on the available options to make our implementation and support of your network security firewall, a breeze.

Security Policies (Part One)
Security Policies (Part Two)
Routing Contexts: INET-VRTR
Routing Contexts: Servers-VRTR
Destination NAT (D-NAT)
Source NAT (S-NAT)



https://www.learndesk.us/class/5276099632168960/lesson/0acd7b9b9000f0cc3d6e46c7fe1b6710?ref=outlook-calendar
STATUS:CONFIRMED
SEQUENCE:3
BEGIN:VALARM
TRIGGER:-PT10M
DESCRIPTION:Class Reminder
ACTION:DISPLAY
END:VALARM
END:VEVENT
END:VCALENDAR